BEGIN:VCALENDAR
VERSION:2.0
PRODID:-//AGC Radio - ECPv6.15.3//NONSGML v1.0//EN
CALSCALE:GREGORIAN
METHOD:PUBLISH
X-WR-CALNAME:AGC Radio
X-ORIGINAL-URL:https://agcradioonline.com
X-WR-CALDESC:Events for AGC Radio
REFRESH-INTERVAL;VALUE=DURATION:PT1H
X-Robots-Tag:noindex
X-PUBLISHED-TTL:PT1H
BEGIN:VTIMEZONE
TZID:UTC
BEGIN:STANDARD
TZOFFSETFROM:+0000
TZOFFSETTO:+0000
TZNAME:UTC
DTSTART:20250101T000000
END:STANDARD
END:VTIMEZONE
BEGIN:VTIMEZONE
TZID:America/Chicago
BEGIN:DAYLIGHT
TZOFFSETFROM:-0600
TZOFFSETTO:-0500
TZNAME:CDT
DTSTART:20250309T080000
END:DAYLIGHT
BEGIN:STANDARD
TZOFFSETFROM:-0500
TZOFFSETTO:-0600
TZNAME:CST
DTSTART:20251102T070000
END:STANDARD
END:VTIMEZONE
BEGIN:VEVENT
DTSTART;VALUE=DATE:20260418
DTEND;VALUE=DATE:20260419
DTSTAMP:20260425T102352
CREATED:20251030T221529Z
LAST-MODIFIED:20251030T221529Z
UID:567-1776470400-1776556799@agcradioonline.com
SUMMARY:Morgan Wallen 'Still the Problem' Tour
DESCRIPTION:with Ella Langley\, Vincent Mason\, and Zach John King
URL:https://agcradioonline.com/event/morgan-wallen-still-the-problem-tour/
LOCATION:Saban Field at Bryant-Denny Stadium\, 920 Paul W Bryant Dr\, Tuscaloosa\, AL\, 35401\, United States
END:VEVENT
BEGIN:VEVENT
DTSTART;TZID=UTC:20260207T193000
DTEND;TZID=UTC:20260207T220000
DTSTAMP:20260425T102352
CREATED:20250404T145957Z
LAST-MODIFIED:20251016T163415Z
UID:500-1770492600-1770501600@agcradioonline.com
SUMMARY:Cody Johnson
DESCRIPTION:
URL:https://agcradioonline.com/event/cody-johnson/
LOCATION:BJCC Concert hall\, 2100 Richard Arrington\, Jr. Blvd. N.\, Birmingham\, AL\, 35203\, United States
END:VEVENT
BEGIN:VEVENT
DTSTART;TZID=UTC:20260206T193000
DTEND;TZID=UTC:20260206T220000
DTSTAMP:20260425T102352
CREATED:20250411T185940Z
LAST-MODIFIED:20251016T163335Z
UID:501-1770406200-1770415200@agcradioonline.com
SUMMARY:Cody Johnson
DESCRIPTION:
URL:https://agcradioonline.com/event/cody-johnson-2/
LOCATION:BJCC Concert hall\, 2100 Richard Arrington\, Jr. Blvd. N.\, Birmingham\, AL\, 35203\, United States
END:VEVENT
BEGIN:VEVENT
DTSTART;TZID=UTC:20251017T190000
DTEND;TZID=UTC:20251017T220000
DTSTAMP:20260425T102352
CREATED:20250424T135144Z
LAST-MODIFIED:20250424T135144Z
UID:507-1760727600-1760738400@agcradioonline.com
SUMMARY:Blake Shelton
DESCRIPTION:
URL:https://agcradioonline.com/event/blake-shelton/
LOCATION:Mercedes-Benz Amphitheater\, 2710 Jack Warner Pkwy\, Tuscaloosa\, AL\, 35401\, United States
END:VEVENT
BEGIN:VEVENT
DTSTART;VALUE=DATE:20251017
DTEND;VALUE=DATE:20251020
DTSTAMP:20260425T102352
CREATED:20250421T145736Z
LAST-MODIFIED:20250421T145736Z
UID:506-1760659200-1760918399@agcradioonline.com
SUMMARY:2025 Talladega Fall NASCAR Weekend
DESCRIPTION:Friday – Loves RV Stop 225\, Playoffs \nSaturday – United Rentals 250\, Playoffs \nSunday – Yellawood 500\, Playoffs
URL:https://agcradioonline.com/event/2025-talladega-fall-nascar-weekend/
LOCATION:Talladega Superspeedway\, 3366 Speedway Blvd\, Lincoln\, AL\, 35096\, United States
END:VEVENT
BEGIN:VEVENT
DTSTART;TZID=America/Chicago:20250926T193000
DTEND;TZID=America/Chicago:20250926T230000
DTSTAMP:20260425T102352
CREATED:20250214T154539Z
LAST-MODIFIED:20250215T203519Z
UID:369-1758915000-1758927600@agcradioonline.com
SUMMARY:Jason Aldean - The Full Throttle Tour 2025
DESCRIPTION:
URL:https://agcradioonline.com/event/full-throttle-tour/
LOCATION:Coca-Cola Amphitheater\, 1430 24th Street North\, Birmingham\, AL\, 35234\, United States
END:VEVENT
BEGIN:VEVENT
DTSTART;TZID=UTC:20250912T183000
DTEND;TZID=UTC:20250912T213000
DTSTAMP:20260425T102352
CREATED:20250319T160701Z
LAST-MODIFIED:20250319T160701Z
UID:468-1757701800-1757712600@agcradioonline.com
SUMMARY:HARDY: Jim Bob World Tour
DESCRIPTION:
URL:https://agcradioonline.com/event/hardy-jim-bob-world-tour/
LOCATION:Coca-Cola Amphitheater\, 1430 24th Street North\, Birmingham\, AL\, 35234\, United States
END:VEVENT
BEGIN:VEVENT
DTSTART;TZID=UTC:20250910T193000
DTEND;TZID=UTC:20250910T223000
DTSTAMP:20260425T102352
CREATED:20250319T160558Z
LAST-MODIFIED:20250319T160558Z
UID:467-1757532600-1757543400@agcradioonline.com
SUMMARY:James Taylor & His All-Star Band
DESCRIPTION:
URL:https://agcradioonline.com/event/james-taylor-his-all-star-band/
LOCATION:Coca-Cola Amphitheater\, 1430 24th Street North\, Birmingham\, AL\, 35234\, United States
END:VEVENT
BEGIN:VEVENT
DTSTART;TZID=UTC:20250822T190000
DTEND;TZID=UTC:20250822T220000
DTSTAMP:20260425T102352
CREATED:20250319T160354Z
LAST-MODIFIED:20250319T160354Z
UID:466-1755889200-1755900000@agcradioonline.com
SUMMARY:Dierks Bentley: Broken Branches Tour
DESCRIPTION:
URL:https://agcradioonline.com/event/dierks-bentley-broken-branches-tour/
LOCATION:Coca-Cola Amphitheater\, 1430 24th Street North\, Birmingham\, AL\, 35234\, United States
END:VEVENT
BEGIN:VEVENT
DTSTART;TZID=America/Chicago:20250809T193000
DTEND;TZID=America/Chicago:20250809T230000
DTSTAMP:20260425T102352
CREATED:20250214T153715Z
LAST-MODIFIED:20250215T203628Z
UID:368-1754767800-1754780400@agcradioonline.com
SUMMARY:Riley Green: Damn Country Music Tour
DESCRIPTION:
URL:https://agcradioonline.com/event/damn-country-music-tour/
LOCATION:Coca-Cola Amphitheater\, 1430 24th Street North\, Birmingham\, AL\, 35234\, United States
END:VEVENT
BEGIN:VEVENT
DTSTART;TZID=America/Chicago:20250725T193000
DTEND;TZID=America/Chicago:20250725T230000
DTSTAMP:20260425T102352
CREATED:20250214T153345Z
LAST-MODIFIED:20250215T203729Z
UID:355-1753471800-1753484400@agcradioonline.com
SUMMARY:Parker McColllum: What Kinda Man Tour 2025
DESCRIPTION:
URL:https://agcradioonline.com/event/what-kinda-man-tour/
LOCATION:Coca-Cola Amphitheater\, 1430 24th Street North\, Birmingham\, AL\, 35234\, United States
END:VEVENT
BEGIN:VEVENT
DTSTART;TZID=America/Chicago:20250719T190000
DTEND;TZID=America/Chicago:20250719T230000
DTSTAMP:20260425T102352
CREATED:20250214T152902Z
LAST-MODIFIED:20250215T203829Z
UID:354-1752951600-1752966000@agcradioonline.com
SUMMARY:Luke Bryan: Country Song Came On Tour
DESCRIPTION:
URL:https://agcradioonline.com/event/country-song-came-on-tour/
LOCATION:Coca-Cola Amphitheater\, 1430 24th Street North\, Birmingham\, AL\, 35234\, United States
END:VEVENT
BEGIN:VEVENT
DTSTART;TZID=UTC:20250714T183000
DTEND;TZID=UTC:20250714T213000
DTSTAMP:20260425T102352
CREATED:20250416T152054Z
LAST-MODIFIED:20250416T152054Z
UID:502-1752517800-1752528600@agcradioonline.com
SUMMARY:WWE Monday Night RAW
DESCRIPTION:Use the code WWERAW to access the presale starting Wednesday\, April 23\, at 10 a.m.\, until Thursday\, April 24\, at 11:59 p.m. \nSEE YOUR FAVORITE WWE SUPERSTARS \nWORLD HEAVY WEIGHT CHAMPION GUNTHER\nSETH ‘FREAKIN’ ROLLINS\nPENTA\nMAIN EVENT JEY USO\nRHEA RIPLEY\nTHE NEW DAY\nLIV MORGAN\nAND MANY MORE! \nWWE.COM | FACEBOOK.COM/WWE | #WWEBIRMINGHAM \nExperience the thrill of WWE Monday Night Raw live! Step into the electrifying atmosphere of the arena\, surrounded by passionate fans as the biggest superstars clash in epic battles. Witness jaw-dropping moments\, fierce rivalries\, and unforgettable showdowns as legendary icons and rising stars engage in high-octane action right before your eyes.\nFeel the intensity and become part of the WWE Universe with three hours of non-stop entertainment\, larger-than-life personalities\, and unparalleled in-ring skills. Don’t miss out on the live drama and excitement—be there to see it all unfold at WWE Monday Night Raw!
URL:https://agcradioonline.com/event/wwe-monday-night-raw/
LOCATION:Legacy Arena @  The BJCC\, 1898 9th Ave N\, Birmingham\, AL\, 35203\, United States
END:VEVENT
BEGIN:VEVENT
DTSTART;TZID=UTC:20250627T193000
DTEND;TZID=UTC:20250627T223000
DTSTAMP:20260425T102352
CREATED:20250319T155846Z
LAST-MODIFIED:20250603T134806Z
UID:461-1751052600-1751063400@agcradioonline.com
SUMMARY:Thomas Rhett: Better in Boots Tour feat. Tucker Wetmore
DESCRIPTION:
URL:https://agcradioonline.com/event/thomas-rhett-better-in-boots-tour/
LOCATION:Coca-Cola Amphitheater\, 1430 24th Street North\, Birmingham\, AL\, 35234\, United States
END:VEVENT
BEGIN:VEVENT
DTSTART;TZID=UTC:20250624T193000
DTEND;TZID=UTC:20250624T223000
DTSTAMP:20260425T102352
CREATED:20250319T155705Z
LAST-MODIFIED:20250319T155705Z
UID:460-1750793400-1750804200@agcradioonline.com
SUMMARY:Dave Matthews Band
DESCRIPTION:
URL:https://agcradioonline.com/event/dave-matthews-band/
LOCATION:Coca-Cola Amphitheater\, 1430 24th Street North\, Birmingham\, AL\, 35234\, United States
END:VEVENT
BEGIN:VEVENT
DTSTART;VALUE=DATE:20250619
DTEND;VALUE=DATE:20250622
DTSTAMP:20260425T102352
CREATED:20250404T145906Z
LAST-MODIFIED:20250404T145906Z
UID:498-1750291200-1750550399@agcradioonline.com
SUMMARY:2025 Rock the South featuring Hank Williams\, Jr.\, Kid Rock & Nickelback
DESCRIPTION:
URL:https://agcradioonline.com/event/2025-rock-the-south-featuring-hank-williams-jr-kid-rock-nickelback/
LOCATION:Rock the South Grounds\, 1872 Co Rd 469\, Cullman\, AL\, United States
END:VEVENT
BEGIN:VEVENT
DTSTART;TZID=UTC:20250613T190000
DTEND;TZID=UTC:20250613T220000
DTSTAMP:20260425T102352
CREATED:20250319T155409Z
LAST-MODIFIED:20250319T155409Z
UID:457-1749841200-1749852000@agcradioonline.com
SUMMARY:Old Dominion: How Good Is That World Tour
DESCRIPTION:
URL:https://agcradioonline.com/event/old-dominion-how-good-is-that-world-tour/
LOCATION:Mercedes-Benz Amphitheater\, 2710 Jack Warner Pkwy\, Tuscaloosa\, AL\, 35401\, United States
END:VEVENT
BEGIN:VEVENT
DTSTART;TZID=UTC:20250606T190000
DTEND;TZID=UTC:20250606T220000
DTSTAMP:20260425T102352
CREATED:20250319T155521Z
LAST-MODIFIED:20250319T155521Z
UID:459-1749236400-1749247200@agcradioonline.com
SUMMARY:Brantley Gilbert
DESCRIPTION:
URL:https://agcradioonline.com/event/brantley-gilbert/
LOCATION:Mercedes-Benz Amphitheater\, 2710 Jack Warner Pkwy\, Tuscaloosa\, AL\, 35401\, United States
END:VEVENT
BEGIN:VEVENT
DTSTART;VALUE=DATE:20250605
DTEND;VALUE=DATE:20250609
DTSTAMP:20260425T102352
CREATED:20250327T163512Z
LAST-MODIFIED:20250327T163512Z
UID:495-1749081600-1749427199@agcradioonline.com
SUMMARY:CMA Fest presented by SoFi
DESCRIPTION:Including Jason Aldean\, Kelsea Ballerini\, Dierks Bentley\, Brooks & Dunn\, Luke Bryan\, Jordan Davis\, Riley Green\, Cody Johnson\, Ella Langley\, Ashley McBryde\, Parker McCollum\, Megan Moroney\, Rascal Flatts\, The Red Clay Strays\, Darius Rucker\, Shaboozey\, Blake Shelton\, Zach Top\, Keith Urban and Bailey Zimmerman 
URL:https://agcradioonline.com/event/cma-fest-presented-by-sofi/
LOCATION:Nissan Stadium\, 1 Titans Way\, Nashville\, TN\, 37213\, United States
END:VEVENT
BEGIN:VEVENT
DTSTART;VALUE=DATE:20250516
DTEND;VALUE=DATE:20250519
DTSTAMP:20260425T102352
CREATED:20250214T163727Z
LAST-MODIFIED:20250215T204106Z
UID:383-1747353600-1747612799@agcradioonline.com
SUMMARY:Sand in My Boots featuring Morgan Wallen\, Post Malone\, Brooks & Dunn\, Hardy & More!
DESCRIPTION:
URL:https://agcradioonline.com/event/sand-in-my-boots-featuring-morgan-wallen/
LOCATION:Gulf Shores Public Beach\, 101 Gulf Shores Parkway\, Gulf Shores\, AL\, 36542\, United States
END:VEVENT
BEGIN:VEVENT
DTSTART;TZID=UTC:20250511T193000
DTEND;TZID=UTC:20250511T230000
DTSTAMP:20260425T102352
CREATED:20250215T214136Z
LAST-MODIFIED:20250215T214136Z
UID:394-1746991800-1747004400@agcradioonline.com
SUMMARY:Post Malone with Jelly Roll
DESCRIPTION:
URL:https://agcradioonline.com/event/post-malone-with-jelly-roll/
LOCATION:Mercedes-Benz Stadium\, 1 AMB Dr NW\, Atlanta\, GA\, 30313\, United States
END:VEVENT
BEGIN:VEVENT
DTSTART;TZID=UTC:20250504T193000
DTEND;TZID=UTC:20250504T223000
DTSTAMP:20260425T102352
CREATED:20250319T154933Z
LAST-MODIFIED:20250319T154933Z
UID:455-1746387000-1746397800@agcradioonline.com
SUMMARY:Alison Krauss & Union Station
DESCRIPTION:
URL:https://agcradioonline.com/event/alison-krauss-union-station/
LOCATION:BJCC Concert hall\, 2100 Richard Arrington\, Jr. Blvd. N.\, Birmingham\, AL\, 35203\, United States
END:VEVENT
BEGIN:VEVENT
DTSTART;VALUE=DATE:20250425
DTEND;VALUE=DATE:20250428
DTSTAMP:20260425T102352
CREATED:20250421T145615Z
LAST-MODIFIED:20250421T145615Z
UID:504-1745539200-1745798399@agcradioonline.com
SUMMARY:2025 Talladega Spring NASCAR Weekend
DESCRIPTION:Friday – Qualifying \nSaturday – AG-Pro 300 and ARCA Menard Series Doubleheader \nSunday – Jack Links 500
URL:https://agcradioonline.com/event/2025-talladega-spring-nascar-weekend/
LOCATION:Talladega Superspeedway\, 3366 Speedway Blvd\, Lincoln\, AL\, 35096\, United States
END:VEVENT
BEGIN:VEVENT
DTSTART;TZID=UTC:20250416T190000
DTEND;TZID=UTC:20250416T220000
DTSTAMP:20260425T102352
CREATED:20250319T154559Z
LAST-MODIFIED:20250319T154559Z
UID:454-1744830000-1744840800@agcradioonline.com
SUMMARY:Willie Nelson & Family
DESCRIPTION:
URL:https://agcradioonline.com/event/willie-nelson-family/
LOCATION:Orion Amphitheater\, 701 Amphitheater Drive NW\, Huntsville\, AL\, 35806\, United States
END:VEVENT
BEGIN:VEVENT
DTSTART;TZID=UTC:20250403T200000
DTEND;TZID=UTC:20250403T230000
DTSTAMP:20260425T102352
CREATED:20250214T161804Z
LAST-MODIFIED:20250215T204356Z
UID:371-1743710400-1743721200@agcradioonline.com
SUMMARY:Megan Moroney
DESCRIPTION:
URL:https://agcradioonline.com/event/orion-amphitheatre/
LOCATION:Orion Amphitheater\, 701 Amphitheater Drive NW\, Huntsville\, AL\, 35806\, United States
END:VEVENT
BEGIN:VEVENT
DTSTART;TZID=America/Chicago:20250320T190000
DTEND;TZID=America/Chicago:20250320T230000
DTSTAMP:20260425T102352
CREATED:20250214T160501Z
LAST-MODIFIED:20250215T204609Z
UID:372-1742497200-1742511600@agcradioonline.com
SUMMARY:Rascal Flatts
DESCRIPTION:
URL:https://agcradioonline.com/event/propst-arena/
LOCATION:Propst Arena\, 700 Monroe Street\, Huntsville\, AL\, 35801\, United States
END:VEVENT
BEGIN:VEVENT
DTSTART;TZID=America/Chicago:20250227T193000
DTEND;TZID=America/Chicago:20250227T230000
DTSTAMP:20260425T102352
CREATED:20250214T133333Z
LAST-MODIFIED:20250215T204743Z
UID:347-1740684600-1740697200@agcradioonline.com
SUMMARY:Thomas Rhett: Better In Boots Tour 2025
DESCRIPTION:
URL:https://agcradioonline.com/event/agc-country-concert-calendar/
LOCATION:Coca-Cola Amphitheater\, 1430 24th Street North\, Birmingham\, AL\, 35234\, United States
END:VEVENT
END:VCALENDAR